BEGIN:VCALENDAR
VERSION:2.0
PRODID:-//Norsk Flyteknikerorganisasjon - ECPv6.15.20//NONSGML v1.0//EN
CALSCALE:GREGORIAN
METHOD:PUBLISH
X-WR-CALNAME:Norsk Flyteknikerorganisasjon
X-ORIGINAL-URL:https://nfo.no
X-WR-CALDESC:Arrangement for Norsk Flyteknikerorganisasjon
REFRESH-INTERVAL;VALUE=DURATION:PT1H
X-Robots-Tag:noindex
X-PUBLISHED-TTL:PT1H
BEGIN:VTIMEZONE
TZID:Europe/Berlin
BEGIN:DAYLIGHT
TZOFFSETFROM:+0100
TZOFFSETTO:+0200
TZNAME:CEST
DTSTART:20230326T010000
END:DAYLIGHT
BEGIN:STANDARD
TZOFFSETFROM:+0200
TZOFFSETTO:+0100
TZNAME:CET
DTSTART:20231029T010000
END:STANDARD
BEGIN:DAYLIGHT
TZOFFSETFROM:+0100
TZOFFSETTO:+0200
TZNAME:CEST
DTSTART:20240331T010000
END:DAYLIGHT
BEGIN:STANDARD
TZOFFSETFROM:+0200
TZOFFSETTO:+0100
TZNAME:CET
DTSTART:20241027T010000
END:STANDARD
BEGIN:DAYLIGHT
TZOFFSETFROM:+0100
TZOFFSETTO:+0200
TZNAME:CEST
DTSTART:20250330T010000
END:DAYLIGHT
BEGIN:STANDARD
TZOFFSETFROM:+0200
TZOFFSETTO:+0100
TZNAME:CET
DTSTART:20251026T010000
END:STANDARD
END:VTIMEZONE
BEGIN:VEVENT
DTSTART;TZID=Europe/Berlin:20240422T090000
DTEND;TZID=Europe/Berlin:20240422T150000
DTSTAMP:20260425T150307
CREATED:20240325T071019Z
LAST-MODIFIED:20240422T123206Z
UID:21709-1713776400-1713798000@nfo.no
SUMMARY:Sentralstyremøte 1-2024
DESCRIPTION:
URL:https://nfo.no/kalender/sentralstyremote-1-2024/
LOCATION:Møterom SAS Teknisk
CATEGORIES:Sentralstyret
END:VEVENT
END:VCALENDAR