BEGIN:VCALENDAR
VERSION:2.0
PRODID:-//Norsk Flyteknikerorganisasjon - ECPv6.15.20//NONSGML v1.0//EN
CALSCALE:GREGORIAN
METHOD:PUBLISH
X-WR-CALNAME:Norsk Flyteknikerorganisasjon
X-ORIGINAL-URL:https://nfo.no
X-WR-CALDESC:Arrangement for Norsk Flyteknikerorganisasjon
REFRESH-INTERVAL;VALUE=DURATION:PT1H
X-Robots-Tag:noindex
X-PUBLISHED-TTL:PT1H
BEGIN:VTIMEZONE
TZID:Europe/Berlin
BEGIN:DAYLIGHT
TZOFFSETFROM:+0100
TZOFFSETTO:+0200
TZNAME:CEST
DTSTART:20250330T010000
END:DAYLIGHT
BEGIN:STANDARD
TZOFFSETFROM:+0200
TZOFFSETTO:+0100
TZNAME:CET
DTSTART:20251026T010000
END:STANDARD
BEGIN:DAYLIGHT
TZOFFSETFROM:+0100
TZOFFSETTO:+0200
TZNAME:CEST
DTSTART:20260329T010000
END:DAYLIGHT
BEGIN:STANDARD
TZOFFSETFROM:+0200
TZOFFSETTO:+0100
TZNAME:CET
DTSTART:20261025T010000
END:STANDARD
BEGIN:DAYLIGHT
TZOFFSETFROM:+0100
TZOFFSETTO:+0200
TZNAME:CEST
DTSTART:20270328T010000
END:DAYLIGHT
BEGIN:STANDARD
TZOFFSETFROM:+0200
TZOFFSETTO:+0100
TZNAME:CET
DTSTART:20271031T010000
END:STANDARD
BEGIN:DAYLIGHT
TZOFFSETFROM:+0100
TZOFFSETTO:+0200
TZNAME:CEST
DTSTART:20280326T010000
END:DAYLIGHT
BEGIN:STANDARD
TZOFFSETFROM:+0200
TZOFFSETTO:+0100
TZNAME:CET
DTSTART:20281029T010000
END:STANDARD
END:VTIMEZONE
BEGIN:VTIMEZONE
TZID:Europe/Oslo
BEGIN:DAYLIGHT
TZOFFSETFROM:+0100
TZOFFSETTO:+0200
TZNAME:CEST
DTSTART:20260329T010000
END:DAYLIGHT
BEGIN:STANDARD
TZOFFSETFROM:+0200
TZOFFSETTO:+0100
TZNAME:CET
DTSTART:20261025T010000
END:STANDARD
BEGIN:DAYLIGHT
TZOFFSETFROM:+0100
TZOFFSETTO:+0200
TZNAME:CEST
DTSTART:20270328T010000
END:DAYLIGHT
BEGIN:STANDARD
TZOFFSETFROM:+0200
TZOFFSETTO:+0100
TZNAME:CET
DTSTART:20271031T010000
END:STANDARD
BEGIN:DAYLIGHT
TZOFFSETFROM:+0100
TZOFFSETTO:+0200
TZNAME:CEST
DTSTART:20280326T010000
END:DAYLIGHT
BEGIN:STANDARD
TZOFFSETFROM:+0200
TZOFFSETTO:+0100
TZNAME:CET
DTSTART:20281029T010000
END:STANDARD
END:VTIMEZONE
BEGIN:VEVENT
DTSTART;TZID=Europe/Berlin:20260420T000000
DTEND;TZID=Europe/Berlin:20260424T235959
DTSTAMP:20260422T124611
CREATED:20260414T161743Z
LAST-MODIFIED:20260414T173142Z
UID:35344-1776643200-1777075199@nfo.no
SUMMARY:AMC
DESCRIPTION:
URL:https://nfo.no/kalender/amc/
CATEGORIES:Annet/kurs
END:VEVENT
BEGIN:VEVENT
DTSTART;TZID=Europe/Berlin:20260427T090000
DTEND;TZID=Europe/Berlin:20260427T153000
DTSTAMP:20260422T124611
CREATED:20260317T080011Z
LAST-MODIFIED:20260414T173142Z
UID:35230-1777280400-1777303800@nfo.no
SUMMARY:Sentralstyremøte 1-2026
DESCRIPTION:
URL:https://nfo.no/kalender/sentralstyremote-1-2026/
CATEGORIES:Sentralstyret
END:VEVENT
BEGIN:VEVENT
DTSTART;TZID=Europe/Berlin:20260521T000000
DTEND;TZID=Europe/Berlin:20260522T235959
DTSTAMP:20260422T124611
CREATED:20260414T161805Z
LAST-MODIFIED:20260414T173142Z
UID:35232-1779321600-1779494399@nfo.no
SUMMARY:Forhandlinger Tariffoppgjør 2026
DESCRIPTION:
URL:https://nfo.no/kalender/forhandlinger-tariffoppgjor-2026/
LOCATION:NHO Luftfart
CATEGORIES:Annet/kurs
END:VEVENT
BEGIN:VEVENT
DTSTART;TZID=Europe/Berlin:20260819T090000
DTEND;TZID=Europe/Berlin:20260819T153000
DTSTAMP:20260422T124611
CREATED:20260414T161815Z
LAST-MODIFIED:20260414T173142Z
UID:35346-1787130000-1787153400@nfo.no
SUMMARY:Sekretariatsmøte (kontoret)
DESCRIPTION:
URL:https://nfo.no/kalender/sekretariatsmote-kontoret-3/
CATEGORIES:Sekretariatet
END:VEVENT
BEGIN:VEVENT
DTSTART;TZID=Europe/Berlin:20260908T090000
DTEND;TZID=Europe/Berlin:20260908T153000
DTSTAMP:20260422T124611
CREATED:20260317T121136Z
LAST-MODIFIED:20260414T173142Z
UID:35233-1788858000-1788881400@nfo.no
SUMMARY:Sentralstyremøte 2-2026
DESCRIPTION:
URL:https://nfo.no/kalender/sentralstyremote-2-2026/
CATEGORIES:Sentralstyret
END:VEVENT
BEGIN:VEVENT
DTSTART;TZID=Europe/Berlin:20260922T000000
DTEND;TZID=Europe/Berlin:20260922T235959
DTSTAMP:20260422T124611
CREATED:20260414T161830Z
LAST-MODIFIED:20260414T173142Z
UID:35347-1790035200-1790121599@nfo.no
SUMMARY:Sekmøte teams
DESCRIPTION:
URL:https://nfo.no/kalender/sekmote-teams-4/
LOCATION:Microsoft Teams Meeting
CATEGORIES:Sekretariatet
END:VEVENT
BEGIN:VEVENT
DTSTART;TZID=Europe/Berlin:20261019T000000
DTEND;TZID=Europe/Berlin:20261019T235959
DTSTAMP:20260422T124611
CREATED:20260414T161856Z
LAST-MODIFIED:20260414T173142Z
UID:35348-1792368000-1792454399@nfo.no
SUMMARY:Sekmøte teams
DESCRIPTION:
URL:https://nfo.no/kalender/sekmote-teams-5/
LOCATION:Microsoft Teams Meeting
CATEGORIES:Sekretariatet
END:VEVENT
BEGIN:VEVENT
DTSTART;TZID=Europe/Berlin:20261113T090000
DTEND;TZID=Europe/Berlin:20261113T153000
DTSTAMP:20260422T124612
CREATED:20260317T121143Z
LAST-MODIFIED:20260414T173142Z
UID:35234-1794560400-1794583800@nfo.no
SUMMARY:Sekretariatsmøte (kontoret)
DESCRIPTION:
URL:https://nfo.no/kalender/sekretariatsmote-kontoret-2/
LOCATION:Microsoft Teams Meeting
CATEGORIES:Sekretariatet
END:VEVENT
BEGIN:VEVENT
DTSTART;TZID=Europe/Berlin:20261127T090000
DTEND;TZID=Europe/Berlin:20261127T153000
DTSTAMP:20260422T124612
CREATED:20260317T121152Z
LAST-MODIFIED:20260414T173142Z
UID:35236-1795770000-1795793400@nfo.no
SUMMARY:Sentralstyremøtet 3-2026
DESCRIPTION:
URL:https://nfo.no/kalender/sentralstyremotet-3-2026/
LOCATION:Microsoft Teams Meeting
CATEGORIES:Sentralstyret
END:VEVENT
BEGIN:VEVENT
DTSTART;TZID=Europe/Berlin:20261215T000000
DTEND;TZID=Europe/Berlin:20261215T235959
DTSTAMP:20260422T124612
CREATED:20260414T161912Z
LAST-MODIFIED:20260414T173143Z
UID:35349-1797292800-1797379199@nfo.no
SUMMARY:sekmøte teams
DESCRIPTION:
URL:https://nfo.no/kalender/sekmote-teams-6/
LOCATION:Microsoft Teams Meeting
CATEGORIES:Sekretariatet
END:VEVENT
BEGIN:VEVENT
DTSTART;TZID=Europe/Berlin:20270107T000000
DTEND;TZID=Europe/Berlin:20270107T235959
DTSTAMP:20260422T124612
CREATED:20260414T161920Z
LAST-MODIFIED:20260414T173143Z
UID:35350-1799280000-1799366399@nfo.no
SUMMARY:sekmøte teams
DESCRIPTION:
URL:https://nfo.no/kalender/sekmote-teams-7/
LOCATION:Microsoft Teams Meeting
CATEGORIES:Sekretariatet
END:VEVENT
BEGIN:VEVENT
DTSTART;TZID=Europe/Berlin:20270223T090000
DTEND;TZID=Europe/Berlin:20270223T153000
DTSTAMP:20260422T124612
CREATED:20260317T121210Z
LAST-MODIFIED:20260414T173143Z
UID:35237-1803373200-1803396600@nfo.no
SUMMARY:Sentralstyremøte 4-2026
DESCRIPTION:
URL:https://nfo.no/kalender/sentralstyremote-4-2026/
LOCATION:Microsoft Teams Meeting
CATEGORIES:Sentralstyret
END:VEVENT
BEGIN:VEVENT
DTSTART;TZID=Europe/Oslo:20270312T000000
DTEND;TZID=Europe/Oslo:20270313T235959
DTSTAMP:20260422T124612
CREATED:20260317T120648Z
LAST-MODIFIED:20260317T120719Z
UID:35226-1804809600-1804982399@nfo.no
SUMMARY:Representantskapsmøte 2027
DESCRIPTION:
URL:https://nfo.no/kalender/representantskapsmote-2027/
END:VEVENT
END:VCALENDAR